BEGIN:VCALENDAR
VERSION:2.0
PRODID:-//MindPowerSolution - ECPv6.15.20//NONSGML v1.0//EN
CALSCALE:GREGORIAN
METHOD:PUBLISH
X-ORIGINAL-URL:https://mindpowersolution.de
X-WR-CALDESC:Veranstaltungen für MindPowerSolution
REFRESH-INTERVAL;VALUE=DURATION:PT1H
X-Robots-Tag:noindex
X-PUBLISHED-TTL:PT1H
BEGIN:VTIMEZONE
TZID:UTC
BEGIN:STANDARD
TZOFFSETFROM:+0000
TZOFFSETTO:+0000
TZNAME:UTC
DTSTART:20250101T000000
END:STANDARD
END:VTIMEZONE
BEGIN:VEVENT
DTSTART;TZID=UTC:20260918T170000
DTEND;TZID=UTC:20260918T190000
DTSTAMP:20260420T155835
CREATED:20231030T080536Z
LAST-MODIFIED:20260401T043947Z
UID:2193-1789750800-1789758000@mindpowersolution.de
SUMMARY:Lesung mit Rukiye Cankiran
DESCRIPTION:Alpakafarmily und Charlin Kautz von mindpowersolution laden ein zu einer öffentlichen Lesung mit der Autorin Rukiye Cankiran aus ihrem Buch „Bei Helga und Latife zu Tee und Kaffee“. \n\n\n\nDas Buch erzählt in lebendiger Dialogform vom Alltag zweier älterer Frauen: Helga aus Deutschland und Latife aus der Türkei. Beide verwitwet\, gründen sie gemeinsam eine Wohngemeinschaft in einem ruhigen Stadtteil von Hamburg. In humorvollen\, warmherzigen und zugleich nachdenklichen Gesprächen teilen sie Erinnerungen\, Erfahrungen und Gedanken zu Familie\, Lebenswegen und gesellschaftlichen Veränderungen. \n\n\n\nDie Lesung eröffnet einen niedrigschwelligen Raum für Begegnung und Austausch. Im Mittelpunkt stehen persönliche Geschichten\, Alltagsbeobachtungen und die Frage\, was Menschen verbindet – über unterschiedliche Prägungen und Hintergründe hinweg. \n\n\n\nIm Anschluss an die Lesung besteht Gelegenheit zum Gespräch mit der Autorin und untereinander. Der Kontakt zu den Alpakas inkl. Fütterung rundet das Programm ab. Während der Veranstaltung stehen ein kleiner Basteltisch für Kinder sowie Snacks und Getränke bereit. Die Veranstaltung richtet sich an alle Interessierten und lädt dazu ein\, neue Perspektiven kennenzulernen und miteinander ins Gespräch zu kommen. \n\n\n\nEine Veranstaltung für alle\, die Literatur als Brücke zwischen Lebenswelten erleben möchten.
URL:https://mindpowersolution.de/event/thema-folgt-10/
CATEGORIES:Offline Workshop
ATTACH;FMTTYPE=image/jpeg:https://mindpowersolution.de/wp-content/uploads/2023/10/Screenshot-2026-04-01-063645.jpg
END:VEVENT
END:VCALENDAR