BEGIN:VCALENDAR
VERSION:2.0
PRODID:-//MindPowerSolution - ECPv6.15.20//NONSGML v1.0//EN
CALSCALE:GREGORIAN
METHOD:PUBLISH
X-WR-CALNAME:MindPowerSolution
X-ORIGINAL-URL:https://mindpowersolution.de
X-WR-CALDESC:Veranstaltungen für MindPowerSolution
REFRESH-INTERVAL;VALUE=DURATION:PT1H
X-Robots-Tag:noindex
X-PUBLISHED-TTL:PT1H
BEGIN:VTIMEZONE
TZID:UTC
BEGIN:STANDARD
TZOFFSETFROM:+0000
TZOFFSETTO:+0000
TZNAME:UTC
DTSTART:20240101T000000
END:STANDARD
END:VTIMEZONE
BEGIN:VEVENT
DTSTART;TZID=UTC:20250308T140000
DTEND;TZID=UTC:20250308T150000
DTSTAMP:20260424T170310
CREATED:20231127T151459Z
LAST-MODIFIED:20250219T080422Z
UID:2265-1741442400-1741446000@mindpowersolution.de
SUMMARY:Schnupperstunde Yin Yoga
DESCRIPTION:in der \n\n\n\n\n\nNimm dir Zeit für dich und sei am Samstag 14:00Uhr bis 15:00Uhr beim Yin-Yoga dabeiYin Yoga ist eine ruhige und meditative Praxis\, die aus passiven Dehnungen besteht und hauptsächlich im Sitzen oder Liegen ausgeführt wird. Dabei werden die Positionen über mehrere Minuten gehalten\, um sanft in eine intensive Dehnung zu gelangen und Spannungen zu lösen. Yin Yoga fördert innere Ruhe\, Achtsamkeit und bringt den Körper in Einklang. Es ist eine wunderbare Möglichkeit\, loszulassen\, Stress abzubauen und tiefe Entspannung zu finden. \n\n\n\nAnmeldung unter info@mindpowersolution.de\, nutze auch gern das Kontaktformularoder unter: 0151 5038 2135 \n\n\n\n\n\n \n\n\n\nWo?In der Sporthalle GrußendorfSteingartenstraße 1838524 SassenburgTeilnahmegebühr: 10 €Für TSV-Mitglieder kostenlos
URL:https://mindpowersolution.de/event/yinyoga/
CATEGORIES:Offline Workshop
ATTACH;FMTTYPE=image/png:https://mindpowersolution.de/wp-content/uploads/2023/11/Titelbild-Workshops-MPSYog1.png
END:VEVENT
BEGIN:VEVENT
DTSTART;TZID=UTC:20250325T213000
DTEND;TZID=UTC:20250325T230000
DTSTAMP:20260424T170310
CREATED:20230822T151227Z
LAST-MODIFIED:20250314T080638Z
UID:1440-1742938200-1742943600@mindpowersolution.de
SUMMARY:Empowerment
DESCRIPTION:Frei nach dem Motto „Passe dich nicht länger an das an was du wollen sollst\, sondern stärke dich um das zu tun was du wirklich willst.“ wird in dieser Veranstaltung das Selbstbewusstsein durch Selbstreflexion gestärkt und weiter Methoden angeleitet\, welche bei der individuellen Entwicklung von Lösungen unterstützen\, um das eigene Leben selbstbestimmt zu gestalten. \n\n\n\n\nzur Anmeldung
URL:https://mindpowersolution.de/event/autogenes-training-2/
CATEGORIES:Online Workshop
END:VEVENT
END:VCALENDAR