BEGIN:VCALENDAR
VERSION:2.0
PRODID:-//MindPowerSolution - ECPv6.15.20//NONSGML v1.0//EN
CALSCALE:GREGORIAN
METHOD:PUBLISH
X-ORIGINAL-URL:https://mindpowersolution.de
X-WR-CALDESC:Veranstaltungen für MindPowerSolution
REFRESH-INTERVAL;VALUE=DURATION:PT1H
X-Robots-Tag:noindex
X-PUBLISHED-TTL:PT1H
BEGIN:VTIMEZONE
TZID:UTC
BEGIN:STANDARD
TZOFFSETFROM:+0000
TZOFFSETTO:+0000
TZNAME:UTC
DTSTART:20250101T000000
END:STANDARD
END:VTIMEZONE
BEGIN:VEVENT
DTSTART;TZID=UTC:20260516T100000
DTEND;TZID=UTC:20260516T110000
DTSTAMP:20260420T142113
CREATED:20231030T075651Z
LAST-MODIFIED:20260416T042813Z
UID:2173-1778925600-1778929200@mindpowersolution.de
SUMMARY:Eltern-Kind-Yoga
DESCRIPTION:Das Eltern-Kind-Yoga\, angeleitet und durchgeführt von Charlin Kautz von mindpowersolution (Sozialarbeiterin & systemische Beraterin)\, lädt Eltern oder Bezugspersonen und Kinder dazu ein\, bewusst gemeinsame Zeit zu erleben: achtsam\, spielerisch und stärkend – zwischen Alpakas. \n\n\n\nIn einer kindgerechten Einheit verbinden wir leichte Yogaübungen\, Atemspiele\, kleine Entspannungsimpulse und kreative Partnerübungen. Außerdem gibt es Gelegenheit zum Basteln einer Alpaka-Erinnerung. Bewegung und Ruhe wechseln sich ab. So entsteht ein ausgewogenes Angebot\, das sowohl Energie freisetzt als auch zur Regeneration beiträgt. Natürlich wird auch der Kontakt zu den Alpakas gesucht inkl. Fütterung. Während der Veranstaltung stehen Snacks und Getränke für alle Teilnehmenden bereit. \n\n\n\nZiele des Angebots:• Stärkung der Eltern-Kind-Bindung• Förderung von Körperwahrnehmung und Konzentration• Abbau von Alltagsstress• gemeinsame positive Erlebnisse \n\n\n\nEs sind keine Vorkenntnisse erforderlich. Die Übungen werden altersgerecht angeleitet und so gestaltet\, dass Freude\, Leichtigkeit und gegenseitige Wertschätzung im Mittelpunkt stehen. \n\n\n\nDie Veranstaltung bietet einen freien Raum in dem alles kann und nichts muss\, daher können Kinder im Alter von 2-14 Jahren (je nach Reife des Kindes) dabei sein. \n\n\n\nDas Eltern-Kind-Yoga mit Charlin Kautz schafft einen geschützten Raum für Begegnung\, Bewegung und bewusste Nähe\, fernab vom Alltagsdruck\, hin zu mehr Verbindung im Familienleben. \n\n\n\nWichtige Hinweise: \n\n\n\n\nHunde können leider nicht mitgebracht werden\, da unsere Alpakas sehr empfindlich auf sie reagieren.\n\n\n\nBei schlechtem Wetter muss das Event abgesagt werden.\n\n\n\n\nJetzt das Eltern-Kind-Yoga buchen\, um bewusst gemeinsame Zeit inmitten der Alpakas zu erleben.
URL:https://mindpowersolution.de/event/thema-wird-rechtzeitig-bekannt-gegeben/
CATEGORIES:Offline Workshop
ATTACH;FMTTYPE=image/jpeg:https://mindpowersolution.de/wp-content/uploads/2023/10/Screenshot-2026-04-01-062533.jpg
END:VEVENT
END:VCALENDAR