BEGIN:VCALENDAR
VERSION:2.0
PRODID:-//MindPowerSolution - ECPv6.15.20//NONSGML v1.0//EN
CALSCALE:GREGORIAN
METHOD:PUBLISH
X-ORIGINAL-URL:https://mindpowersolution.de
X-WR-CALDESC:Veranstaltungen für MindPowerSolution
REFRESH-INTERVAL;VALUE=DURATION:PT1H
X-Robots-Tag:noindex
X-PUBLISHED-TTL:PT1H
BEGIN:VTIMEZONE
TZID:UTC
BEGIN:STANDARD
TZOFFSETFROM:+0000
TZOFFSETTO:+0000
TZNAME:UTC
DTSTART:20250101T000000
END:STANDARD
END:VTIMEZONE
BEGIN:VEVENT
DTSTART;TZID=UTC:20260513T170000
DTEND;TZID=UTC:20260513T190000
DTSTAMP:20260420T142124
CREATED:20231030T075947Z
LAST-MODIFIED:20260401T043512Z
UID:2175-1778691600-1778698800@mindpowersolution.de
SUMMARY:Zeit- und Selbstmanagement
DESCRIPTION:Der Workshop zum Thema Zeit- und Selbstmanagement\, angeleitet und durchgeführt von Charlin Kautz von mindpowersolution (Sozialarbeiterin & systemische Beraterin)\, richtet sich an Menschen\, die ihre vielfältigen Anforderungen im Alltag bewusster\, strukturierter und gesünder gestalten möchten. \n\n\n\nZwischen Beruf\, Familie\, Engagement und persönlichen Bedürfnissen geraten eigene Ressourcen schnell aus dem Blick. Der Workshop bietet Raum\, innezuhalten\, Prioritäten zu klären und individuelle Strategien zu entwickeln. Der beruhigende Kontakt zu den Alpakas inkl. Fütterung rundet das Programm ab. Während der Veranstaltung stehen Snacks und Getränke für alle Teilnehmenden bereit. \n\n\n\nIm Fokus stehen:• Stärkung von Selbstwirksamkeit und Entscheidungskompetenz• bessere Vereinbarkeit von Familie\, Beruf und persönlichen Aufgaben• Erkennen und Reduzieren mentaler Überlastungsfaktoren• Reflexion von Rollenbildern und eigenen Erwartungen \n\n\n\nPraxisnahe Impulse\, strukturierte Reflexionsübungen und Austausch unterstützen dabei\, den eigenen Alltag realistisch zu analysieren und nachhaltig zu gestalten. \n\n\n\nDer Workshop von Charlin Kautz schafft einen geschützten Rahmen für ehrliche Auseinandersetzung\, neue Perspektiven und konkrete Handlungsschritte.
URL:https://mindpowersolution.de/event/thema-folgt/
CATEGORIES:Online Workshop
ATTACH;FMTTYPE=image/jpeg:https://mindpowersolution.de/wp-content/uploads/2023/10/Screenshot-2026-04-01-063418.jpg
END:VEVENT
END:VCALENDAR