BEGIN:VCALENDAR
VERSION:2.0
PRODID:-//MindPowerSolution - ECPv6.15.20//NONSGML v1.0//EN
CALSCALE:GREGORIAN
METHOD:PUBLISH
X-ORIGINAL-URL:https://mindpowersolution.de
X-WR-CALDESC:Veranstaltungen für MindPowerSolution
REFRESH-INTERVAL;VALUE=DURATION:PT1H
X-Robots-Tag:noindex
X-PUBLISHED-TTL:PT1H
BEGIN:VTIMEZONE
TZID:UTC
BEGIN:STANDARD
TZOFFSETFROM:+0000
TZOFFSETTO:+0000
TZNAME:UTC
DTSTART:20240101T000000
END:STANDARD
END:VTIMEZONE
BEGIN:VEVENT
DTSTART;TZID=UTC:20250215T100000
DTEND;TZID=UTC:20250215T143000
DTSTAMP:20260424T203830
CREATED:20240403T160329Z
LAST-MODIFIED:20250115T171123Z
UID:2569-1739613600-1739629800@mindpowersolution.de
SUMMARY:Entdecke dein "Inneres Kind"
DESCRIPTION:Wenn wir in Situationen überreagieren und uns später fragen\, warum wir so reagiert haben\, könnte unser inneres Kind mit seinen Gefühlen von Trotz\, Wut oder Verletztheit am Werk gewesen sein.  \n\n\n\nDas Konzept des „Inneren Kindes“ besagt\, dass jeder Mensch eine innere Vorstellung seines früheren Selbst aus der Kindheit in sich trägt\, die sowohl die Erlebnisse als auch die Emotionen und Bedürfnisse dieser Zeit repräsentiert. Diese Vorstellung beeinflusst im Erwachsenenalter unser Verhalten und unsere Beziehungen. \n\n\n\nDie Arbeit mit dem Inneren Kind zielt darauf ab\, unbewusste Muster zu erkennen\, zu verstehen\, zu akzeptieren und gegebenenfalls zu verändern\, um ein erfüllteres Leben zu führen. Schöpfe deine Kraft aus deiner Verbindung zu dir selbst und nutze diese für Ihre Stärkung\, um ein erfüllteres Leben führen zu können. \n\n\n\nVeranstaltungsort:Gifhorn\, KVHSFreiherr-vom-Stein-Str. 2438518 GifhornRaum B 130 \n\n\n\n\nzur Anmeldung
URL:https://mindpowersolution.de/event/inneres-kind/
CATEGORIES:Offline Workshop
ATTACH;FMTTYPE=image/jpeg:https://mindpowersolution.de/wp-content/uploads/2024/04/InneresKind.jpg
END:VEVENT
END:VCALENDAR