BEGIN:VCALENDAR
VERSION:2.0
PRODID:-//MindPowerSolution - ECPv6.15.20//NONSGML v1.0//EN
CALSCALE:GREGORIAN
METHOD:PUBLISH
X-WR-CALNAME:MindPowerSolution
X-ORIGINAL-URL:https://mindpowersolution.de
X-WR-CALDESC:Veranstaltungen für MindPowerSolution
REFRESH-INTERVAL;VALUE=DURATION:PT1H
X-Robots-Tag:noindex
X-PUBLISHED-TTL:PT1H
BEGIN:VTIMEZONE
TZID:UTC
BEGIN:STANDARD
TZOFFSETFROM:+0000
TZOFFSETTO:+0000
TZNAME:UTC
DTSTART:20240101T000000
END:STANDARD
END:VTIMEZONE
BEGIN:VEVENT
DTSTART;TZID=UTC:20250207T173000
DTEND;TZID=UTC:20250207T194500
DTSTAMP:20260424T203318
CREATED:20231030T080441Z
LAST-MODIFIED:20250115T145550Z
UID:2191-1738949400-1738957500@mindpowersolution.de
SUMMARY:Selbstmanagement
DESCRIPTION:Du bist es leid\, dich von stressigen To-Do-Listen und einem überfüllten Kalender überwältigt zu fühlen? Möchtest du effektiver arbeiten und gleichzeitig mehr Zeit für das Wesentliche haben? Der zweistündige Online-Workshop zum Thema Selbstmanagement zeigt dir\, wie du deine Produktivität steigern und deine Ziele erreichen kannst – und das ganz ohne zusätzlichen Stress. \n\n\n\nWas du in diesem Workshop lernst:Motivation & ZielsetzungEffektive PrioritätensetzungZeitmanagement-TechnikenMethoden zur Stressbewältigung \n\n\n\n \n\n\n\nOrt:Kreisvolkshochschule GifhornWesterbeck\, Hauptstr. 110\, IGS\, Rotunde \n\n\n\n\nzur Anmeldung
URL:https://mindpowersolution.de/event/thema-folgt-9/
CATEGORIES:Offline Workshop
ATTACH;FMTTYPE=image/jpeg:https://mindpowersolution.de/wp-content/uploads/2023/10/Selbstmanagement.jpg
END:VEVENT
END:VCALENDAR