BEGIN:VCALENDAR
VERSION:2.0
PRODID:-//MindPowerSolution - ECPv6.15.20//NONSGML v1.0//EN
CALSCALE:GREGORIAN
METHOD:PUBLISH
X-WR-CALNAME:MindPowerSolution
X-ORIGINAL-URL:https://mindpowersolution.de
X-WR-CALDESC:Veranstaltungen für MindPowerSolution
REFRESH-INTERVAL;VALUE=DURATION:PT1H
X-Robots-Tag:noindex
X-PUBLISHED-TTL:PT1H
BEGIN:VTIMEZONE
TZID:UTC
BEGIN:STANDARD
TZOFFSETFROM:+0000
TZOFFSETTO:+0000
TZNAME:UTC
DTSTART:20240101T000000
END:STANDARD
END:VTIMEZONE
BEGIN:VEVENT
DTSTART;TZID=UTC:20250116T170000
DTEND;TZID=UTC:20250116T180000
DTSTAMP:20260424T235549
CREATED:20230822T154347Z
LAST-MODIFIED:20241220T152013Z
UID:1465-1737046800-1737050400@mindpowersolution.de
SUMMARY:Yin Yoga
DESCRIPTION:Nimm dir Zeit für dich und sei Donnerstags von 17Uhr bis 18Uhr beim Yin-Yoga dabeiYin Yoga ist eine ruhige und meditative Praxis\, die aus passiven Dehnungen besteht und hauptsächlich im Sitzen oder Liegen ausgeführt wird. Dabei werden die Positionen über mehrere Minuten gehalten\, um sanft in eine intensive Dehnung zu gelangen und Spannungen zu lösen. Yin Yoga fördert innere Ruhe\, Achtsamkeit und bringt den Körper in Einklang. Es ist eine wunderbare Möglichkeit\, loszulassen\, Stress abzubauen und tiefe Entspannung zu finden. \n\n\n\nFür weitere Informationen und zur Anmeldung kontaktiere mich gerne unter info@mindpowersolution.de \n\n\n\n\n\n \n\n\n\nGönn dir eine Auszeit für Körper und Geist – ich freue mich auf dich! \n\n\n\nAlles im Überblick:16:01.202523.01.202530.01.202506.02.202513.02.2025jeweils von 17:00 Uhr bis 18:0 Uhr20.02.202527.02.2025jeweils von 16:30 Uhr bis 17:30 UhrKosten:Einzelstunde 12.50
URL:https://mindpowersolution.de/event/autogenes-training/
CATEGORIES:Online Workshop
ATTACH;FMTTYPE=image/jpeg:https://mindpowersolution.de/wp-content/uploads/2023/08/MindpowerSolution_Workshop_YinYoga2.jpg
END:VEVENT
END:VCALENDAR