BEGIN:VCALENDAR
VERSION:2.0
PRODID:-//MindPowerSolution - ECPv6.15.20//NONSGML v1.0//EN
CALSCALE:GREGORIAN
METHOD:PUBLISH
X-ORIGINAL-URL:https://mindpowersolution.de
X-WR-CALDESC:Veranstaltungen für MindPowerSolution
REFRESH-INTERVAL;VALUE=DURATION:PT1H
X-Robots-Tag:noindex
X-PUBLISHED-TTL:PT1H
BEGIN:VTIMEZONE
TZID:UTC
BEGIN:STANDARD
TZOFFSETFROM:+0000
TZOFFSETTO:+0000
TZNAME:UTC
DTSTART:20240101T000000
END:STANDARD
END:VTIMEZONE
BEGIN:VEVENT
DTSTART;TZID=UTC:20250111T090000
DTEND;TZID=UTC:20250111T193000
DTSTAMP:20260424T223346
CREATED:20231030T080103Z
LAST-MODIFIED:20241223T084720Z
UID:2179-1736586000-1736623800@mindpowersolution.de
SUMMARY:"Mind Power" live Workshop
DESCRIPTION:Gönn dir ein Wochenende der Erholung am Wattenmeer\,mit dem Mind Power Workshop in der Bretterbude Büsum. \n\n\n\nTauche ein in die Welt der Entspannungsverfahren\, lerne wertvolle Techniken zur Stressbewältigung und tanke Kraft in einer atemberaubenden Umgebung. \n\n\n\nDie folgenden Leistungen sind inklusive: \n\n\n\n•  Übernachtung Fr-So inkl. Frühstück im Zimmer \n\n\n\n•  Der Kurs am Samstag \n\n\n\n•  Mittagessen am Samstag & ganztägige Getränkeflat \n\n\n\nDu möchtest nur am Workshop teilnehmen? Hier kannst du dir ein Tages-Ticket sichern. \n\n\n\nZur Zimmerbuchung gehts hier entlang. \n\n\n\n \n\n\n\nKosten mit Unterkunft & Verpflegung:ab 152\,00€
URL:https://mindpowersolution.de/event/mind-power-live-worksh/
LOCATION:Bretterbude Dithmarscher Str. 29\, 25761 Büsum\, Dithmarscher Str. 29\, Büsum\, 25761\, Deutschland
CATEGORIES:Offline Workshop
ATTACH;FMTTYPE=image/jpeg:https://mindpowersolution.de/wp-content/uploads/2023/10/MindPowerWorkshop_Bretterbude.jpg
END:VEVENT
END:VCALENDAR