BEGIN:VCALENDAR
VERSION:2.0
PRODID:-//MindPowerSolution - ECPv6.15.20//NONSGML v1.0//EN
CALSCALE:GREGORIAN
METHOD:PUBLISH
X-ORIGINAL-URL:https://mindpowersolution.de
X-WR-CALDESC:Veranstaltungen für MindPowerSolution
REFRESH-INTERVAL;VALUE=DURATION:PT1H
X-Robots-Tag:noindex
X-PUBLISHED-TTL:PT1H
BEGIN:VTIMEZONE
TZID:UTC
BEGIN:STANDARD
TZOFFSETFROM:+0000
TZOFFSETTO:+0000
TZNAME:UTC
DTSTART:20230101T000000
END:STANDARD
END:VTIMEZONE
BEGIN:VEVENT
DTSTART;TZID=UTC:20241111T190000
DTEND;TZID=UTC:20241115T210000
DTSTAMP:20260425T032529
CREATED:20231030T080410Z
LAST-MODIFIED:20240529T140409Z
UID:2189-1731351600-1731704400@mindpowersolution.de
SUMMARY:Bildungsurlaub Work-Life Balance in Vollzeit
DESCRIPTION:In diesem Kurs liegt der Fokus auf der Prävention von Burnout und Optimierung des Selbstmanagements. Lernen Sie\, wie Sie Ihre Zeit effizienter nutzen\, Stressoren erkennen und bewältigen sowie gesunde Grenzen zwischen Arbeit und Privatleben setzen können. Sie bekommen Werkzeuge an die Hand\, um frühzeitig Anzeichen von Überlastung zu erkennen und präventiv dagegen anzugehen. Darüber hinaus erfahren Sie\, wie Sie Ihre eigenen Ressourcen stärken und für mehr Ausgeglichenheit und Zufriedenheit in Ihrem Leben sorgen können.
URL:https://mindpowersolution.de/event/thema-folgt-8/
CATEGORIES:Bildungsurlaub
ATTACH;FMTTYPE=image/png:https://mindpowersolution.de/wp-content/uploads/2023/10/Titelbild-Workshops-MPS_BildungsurlaubVollzeit-1.png
END:VEVENT
END:VCALENDAR