BEGIN:VCALENDAR
VERSION:2.0
PRODID:-//MindPowerSolution - ECPv6.15.20//NONSGML v1.0//EN
CALSCALE:GREGORIAN
METHOD:PUBLISH
X-ORIGINAL-URL:https://mindpowersolution.de
X-WR-CALDESC:Veranstaltungen für MindPowerSolution
REFRESH-INTERVAL;VALUE=DURATION:PT1H
X-Robots-Tag:noindex
X-PUBLISHED-TTL:PT1H
BEGIN:VTIMEZONE
TZID:UTC
BEGIN:STANDARD
TZOFFSETFROM:+0000
TZOFFSETTO:+0000
TZNAME:UTC
DTSTART:20230101T000000
END:STANDARD
END:VTIMEZONE
BEGIN:VEVENT
DTSTART;TZID=UTC:20240423T083000
DTEND;TZID=UTC:20240423T103000
DTSTAMP:20260425T140813
CREATED:20231030T080030Z
LAST-MODIFIED:20240430T083722Z
UID:2177-1713861000-1713868200@mindpowersolution.de
SUMMARY:Herausforderungen als Chance
DESCRIPTION:Du meisterst viele Herausforderungen\, fühlst dich manchmal überfördert und möchtest immer konzentriert und fokussiert sein? Du übernimmst viel Verantwortung und brauchst mehr Energie? Du suchst nach den besten Lösungen und wünschst dir\, noch effektiver zu sein? \n\n\n\nGenau in diesen\, sowie auch in vielen anderen Situationen kann tiefes\, bewusstes Musik- und Kunsterleben dich unterstützen!  \n\n\n\nDenn es wurde wissenschaftlich nachgewiesen\, dass eine intensive Beschäftigung mit Kultur im Allgemeinen solche Selbstkompetenzen wie Entscheidungsfähigkeit\, Reflexionsfähigkeit\, Selbstbewusstsein oder Sozialkompetenzen wie Kooperationsfähigkeit\, Offenheit\, Teamfähigkeit\, Toleranz oder Überzeugungsfähigkeit fördert. \n\n\n\nSpeziell Musik unterstützt Menschen dabei\, kreativer\, empathischer\, achtsamer und reflektierter zu werden\, stärkt das Immunsystem\, trägt zum Stressabbau bei\, verringert Angst\, reguliert Stimmung und hilft dabei\, soziale Verbindungen herzustellen sowie kommunikative Kompetenzen frei zu entfalten. \n\n\n\nWährend des Workshops lernst du anhand von konkreten einfachen Tools und Kompositionen\, wie du Kunst und Musik im privaten und beruflichen Alltag einsetzen kannst\, um mehr Entspannung\, Freiheit und Freude jeden Tag zu erleben.  \n\n\n\nDenn hatte Bertolt Brecht nicht Recht\, wenn er behauptete\, alle Künste tragen bei zu der größten Kunst\, der Lebenskunst?
URL:https://mindpowersolution.de/event/thema-folgt-2/
CATEGORIES:Online Workshop
ATTACH;FMTTYPE=image/png:https://mindpowersolution.de/wp-content/uploads/2024/04/MindPowerSolution_Herausforderungen-als-Chance-workshop.png
END:VEVENT
END:VCALENDAR